1.000000
0.000000
0.000000
-1.000000
664508.500
4194020.500
