1.000000
0.000000
0.000000
-1.000000
670150.500
4187201.500
