1.000000
0.000000
0.000000
-1.000000
664648.500
4187085.500
