1.000000
0.000000
0.000000
-1.000000
659011.500
4193908.500
