1.000000
0.000000
0.000000
-1.000000
653514.500
4193799.500
