1.000000
0.000000
0.000000
-1.000000
659146.500
4186972.500
