1.000000
0.000000
0.000000
-1.000000
653644.500
4186864.500
