1.000000
0.000000
0.000000
-1.000000
642519.500
4193593.500
