1.000000
0.000000
0.000000
-1.000000
642640.500
4186658.500
