1.000000
0.000000
0.000000
-1.000000
631524.500
4193401.500
