1.000000
0.000000
0.000000
-1.000000
637138.500
4186560.500
