1.000000
0.000000
0.000000
-1.000000
631636.500
4186466.500
