1.000000
0.000000
0.000000
-1.000000
620530.500
4193224.500
