1.000000
0.000000
0.000000
-1.000000
626134.500
4186376.500
