1.000000
0.000000
0.000000
-1.000000
620632.500
4186290.500
