1.000000
0.000000
0.000000
-1.000000
669717.500
4208007.500
