1.000000
0.000000
0.000000
-1.000000
669862.500
4201071.500
