1.000000
0.000000
0.000000
-1.000000
664369.500
4200955.500
