1.000000
0.000000
0.000000
-1.000000
658741.500
4207778.500
