1.000000
0.000000
0.000000
-1.000000
658876.500
4200843.500
