1.000000
0.000000
0.000000
-1.000000
653383.500
4200734.500
