1.000000
0.000000
0.000000
-1.000000
647765.500
4207564.500
