1.000000
0.000000
0.000000
-1.000000
642277.500
4207463.500
