1.000000
0.000000
0.000000
-1.000000
647891.500
4200629.500
