1.000000
0.000000
0.000000
-1.000000
636789.500
4207365.500
