1.000000
0.000000
0.000000
-1.000000
631301.500
4207271.500
