1.000000
0.000000
0.000000
-1.000000
636905.500
4200430.500
