1.000000
0.000000
0.000000
-1.000000
625813.500
4207181.500
