1.000000
0.000000
0.000000
-1.000000
620325.500
4207094.500
