1.000000
0.000000
0.000000
-1.000000
625920.500
4200246.500
