1.000000
0.000000
0.000000
-1.000000
620428.500
4200159.500
