1.000000
0.000000
0.000000
-1.000000
577327.000
4109455.000
