1.000000
0.000000
0.000000
-1.000000
582947.000
4102578.000
