1.000000
0.000000
0.000000
-1.000000
571775.000
4109402.000
