1.000000
0.000000
0.000000
-1.000000
566222.000
4109353.000
