1.000000
0.000000
0.000000
-1.000000
571834.000
4102469.000
