1.000000
0.000000
0.000000
-1.000000
566277.000
4102419.000
