1.000000
0.000000
0.000000
-1.000000
560670.000
4109307.000
