1.000000
0.000000
0.000000
-1.000000
555118.000
4109265.000
