1.000000
0.000000
0.000000
-1.000000
560720.000
4102374.000
