1.000000
0.000000
0.000000
-1.000000
582742.000
4123380.000
