1.000000
0.000000
0.000000
-1.000000
577199.000
4123323.000
