1.000000
0.000000
0.000000
-1.000000
582811.000
4116446.000
