1.000000
0.000000
0.000000
-1.000000
577263.000
4116389.000
