1.000000
0.000000
0.000000
-1.000000
566130.000
4123220.000
