1.000000
0.000000
0.000000
-1.000000
571715.000
4116336.000
