1.000000
0.000000
0.000000
-1.000000
560570.000
4123175.000
