1.000000
0.000000
0.000000
-1.000000
555060.000
4123132.000
