1.000000
0.000000
0.000000
-1.000000
560620.000
4116241.000
