1.000000
0.000000
0.000000
-1.000000
555072.000
4116199.000
